BEGIN:VCALENDAR
VERSION:2.0
PRODID:-//wp-events-plugin.com//7.2.3.1//EN
TZID:Europe/Berlin
X-WR-TIMEZONE:Europe/Berlin
BEGIN:VEVENT
UID:10@kvgartenfreunde-mg.de
DTSTART;TZID=Europe/Berlin:20250325T163000
DTEND;TZID=Europe/Berlin:20250325T180000
DTSTAMP:20250313T083352Z
URL:https://kvgartenfreunde-mg.de/events/termine-des-anwalts/
SUMMARY:Termine des Anwalts
DESCRIPTION:Jeweils 4 Termine stehen zur Verfügung. Um rechtzeitige Anmeld
 ung wird gebeten
LOCATION:Geschäftsstelle des KV Mönchengladbach der Gartenfreunde\, Bruck
 nerallee 190\, Mönchengladbach\, 41236\, Deutschland
X-APPLE-STRUCTURED-LOCATION;VALUE=URI;X-ADDRESS=Brucknerallee 190\, Mönche
 ngladbach\, 41236\, Deutschland;X-APPLE-RADIUS=100;X-TITLE=Geschäftsstell
 e des KV Mönchengladbach der Gartenfreunde:geo:0,0
END:VEVENT
BEGIN:VTIMEZONE
TZID:Europe/Berlin
X-LIC-LOCATION:Europe/Berlin
BEGIN:STANDARD
DTSTART:20241027T020000
TZOFFSETFROM:+0200
TZOFFSETTO:+0100
TZNAME:CET
END:STANDARD
END:VTIMEZONE
END:VCALENDAR